BEGIN:VCALENDAR
VERSION:2.0
PRODID:-//Freemasons German - ECPv6.15.20//NONSGML v1.0//EN
CALSCALE:GREGORIAN
METHOD:PUBLISH
X-WR-CALNAME:Freemasons German
X-ORIGINAL-URL:https://freemasons-germany.com
X-WR-CALDESC:Events for Freemasons German
REFRESH-INTERVAL;VALUE=DURATION:PT1H
X-Robots-Tag:noindex
X-PUBLISHED-TTL:PT1H
BEGIN:VTIMEZONE
TZID:Europe/Paris
BEGIN:DAYLIGHT
TZOFFSETFROM:+0100
TZOFFSETTO:+0200
TZNAME:CEST
DTSTART:20240331T010000
END:DAYLIGHT
BEGIN:STANDARD
TZOFFSETFROM:+0200
TZOFFSETTO:+0100
TZNAME:CET
DTSTART:20241027T010000
END:STANDARD
BEGIN:DAYLIGHT
TZOFFSETFROM:+0100
TZOFFSETTO:+0200
TZNAME:CEST
DTSTART:20250330T010000
END:DAYLIGHT
BEGIN:STANDARD
TZOFFSETFROM:+0200
TZOFFSETTO:+0100
TZNAME:CET
DTSTART:20251026T010000
END:STANDARD
BEGIN:DAYLIGHT
TZOFFSETFROM:+0100
TZOFFSETTO:+0200
TZNAME:CEST
DTSTART:20260329T010000
END:DAYLIGHT
BEGIN:STANDARD
TZOFFSETFROM:+0200
TZOFFSETTO:+0100
TZNAME:CET
DTSTART:20261025T010000
END:STANDARD
END:VTIMEZONE
BEGIN:VEVENT
DTSTART;TZID=Europe/Paris:20250411T190000
DTEND;TZID=Europe/Paris:20250411T210000
DTSTAMP:20260422T021515
CREATED:20250403T060304Z
LAST-MODIFIED:20250403T060304Z
UID:971-1744398000-1744405200@freemasons-germany.com
SUMMARY:English-Speaking Meetup
DESCRIPTION:Hello all. \nWe will be having our monthly English-speaking meet-up on Friday the 11th of April in the Ratskeller in Rheydt @ 19:00h.\nAs a FYI; all future meet-ups will be held on the second Friday of every month\, unless otherwise stated. \nLooking forward to seeing you there. Everyone welcome\nFor more information\, go to www.freemasons-germany.com \nBest regards\,\nPatrick
URL:https://freemasons-germany.com/event/english-speaking-meetup-2/
LOCATION:Markt 11\, Moenchengladbach\, Markt 11\, Moenchengladbach\, 41236\, Germany
END:VEVENT
END:VCALENDAR